BEGIN:VCALENDAR
VERSION:2.0
PRODID:-//COFDAC - ECPv6.15.20//NONSGML v1.0//EN
CALSCALE:GREGORIAN
METHOD:PUBLISH
X-WR-CALNAME:COFDAC
X-ORIGINAL-URL:https://cofdac.com
X-WR-CALDESC:Évènements pour COFDAC
REFRESH-INTERVAL;VALUE=DURATION:PT1H
X-Robots-Tag:noindex
X-PUBLISHED-TTL:PT1H
BEGIN:VTIMEZONE
TZID:Europe/Paris
BEGIN:DAYLIGHT
TZOFFSETFROM:+0100
TZOFFSETTO:+0200
TZNAME:CEST
DTSTART:20230326T010000
END:DAYLIGHT
BEGIN:STANDARD
TZOFFSETFROM:+0200
TZOFFSETTO:+0100
TZNAME:CET
DTSTART:20231029T010000
END:STANDARD
BEGIN:DAYLIGHT
TZOFFSETFROM:+0100
TZOFFSETTO:+0200
TZNAME:CEST
DTSTART:20240331T010000
END:DAYLIGHT
BEGIN:STANDARD
TZOFFSETFROM:+0200
TZOFFSETTO:+0100
TZNAME:CET
DTSTART:20241027T010000
END:STANDARD
BEGIN:DAYLIGHT
TZOFFSETFROM:+0100
TZOFFSETTO:+0200
TZNAME:CEST
DTSTART:20250330T010000
END:DAYLIGHT
BEGIN:STANDARD
TZOFFSETFROM:+0200
TZOFFSETTO:+0100
TZNAME:CET
DTSTART:20251026T010000
END:STANDARD
END:VTIMEZONE
BEGIN:VEVENT
DTSTART;VALUE=DATE:20241016
DTEND;VALUE=DATE:20241017
DTSTAMP:20260419T201341
CREATED:20240617T101532Z
LAST-MODIFIED:20250715T065147Z
UID:5200-1729036800-1729123199@cofdac.com
SUMMARY:37èmes Journées de la Pitié
DESCRIPTION:Infos et inscriptions sur www. journees-pitie.com.
URL:https://cofdac.com/evenement/37emes-journees-de-la-pitie/
LOCATION:La Pitié Salpêtrière\, l’auditorium Adicare - Institut de Cardiologie - La Pitié Salpêtrière\, Paris 13\, France
CATEGORIES:Congrès
ATTACH;FMTTYPE=image/jpeg:https://cofdac.com/wp-content/uploads/2024/06/pitie-1.jpg
END:VEVENT
END:VCALENDAR