BEGIN:VCALENDAR
VERSION:2.0
PRODID:-//COFDAC - ECPv6.15.20//NONSGML v1.0//EN
CALSCALE:GREGORIAN
METHOD:PUBLISH
X-WR-CALNAME:COFDAC
X-ORIGINAL-URL:https://cofdac.com
X-WR-CALDESC:Évènements pour COFDAC
REFRESH-INTERVAL;VALUE=DURATION:PT1H
X-Robots-Tag:noindex
X-PUBLISHED-TTL:PT1H
BEGIN:VTIMEZONE
TZID:Europe/Paris
BEGIN:DAYLIGHT
TZOFFSETFROM:+0100
TZOFFSETTO:+0200
TZNAME:CEST
DTSTART:20230326T010000
END:DAYLIGHT
BEGIN:STANDARD
TZOFFSETFROM:+0200
TZOFFSETTO:+0100
TZNAME:CET
DTSTART:20231029T010000
END:STANDARD
BEGIN:DAYLIGHT
TZOFFSETFROM:+0100
TZOFFSETTO:+0200
TZNAME:CEST
DTSTART:20240331T010000
END:DAYLIGHT
BEGIN:STANDARD
TZOFFSETFROM:+0200
TZOFFSETTO:+0100
TZNAME:CET
DTSTART:20241027T010000
END:STANDARD
BEGIN:DAYLIGHT
TZOFFSETFROM:+0100
TZOFFSETTO:+0200
TZNAME:CEST
DTSTART:20250330T010000
END:DAYLIGHT
BEGIN:STANDARD
TZOFFSETFROM:+0200
TZOFFSETTO:+0100
TZNAME:CET
DTSTART:20251026T010000
END:STANDARD
END:VTIMEZONE
BEGIN:VEVENT
DTSTART;TZID=Europe/Paris:20241119T080000
DTEND;TZID=Europe/Paris:20241119T170000
DTSTAMP:20260426T040856
CREATED:20241119T150947Z
LAST-MODIFIED:20241119T151119Z
UID:5398-1732003200-1732035600@cofdac.com
SUMMARY:Assistance cardiaque : 3e Journée de Rencontre Patients-Soignants
DESCRIPTION:Journée dédiée à l’assistance cardiaque : soignants\, patients : nous vous proposons une journée d’échange !\nle 27 Mars 2025\nÉvénement gratuit\nAuditorium Adicare de l’Institut de cardiologie\nHôpital de la Pitié Salpêtrière\n56 Boulevard Vincent Auriol 75013 PARIS\nMétro ligne 6 – Arrêt Chevaleret. \n✍️ Renseignements et inscriptions jusqu’au 20 avril 2023 auprès des associations :\n\ncontact.cofdac@gmail.com\ncoeur.assist@gmail.com\nmidicardiogreffes31@gmail.com\n\nPROGRAMME DE LA JOURNÉE À VENIR \n Une participation financière de 200€ par personne est proposée (sur justificatif) pour votre transport.\nPour tout déplacement en voiture particulière\, l’indemnité kilométrique sera fixée selon la puissance du véhicule entre 0.60€ et 0.66€/km (dans la limite de 200€). Merci de fournir une copie de votre carte grise. En cas de besoin d’une nuit d’hôtel\, merci de vous rapprocher des associations.
URL:https://cofdac.com/evenement/assistance-cardiaque-3e-journee-de-rencontre-patients-soignants/
END:VEVENT
END:VCALENDAR