BEGIN:VCALENDAR
VERSION:2.0
PRODID:-//COFDAC - ECPv6.15.20//NONSGML v1.0//EN
CALSCALE:GREGORIAN
METHOD:PUBLISH
X-WR-CALNAME:COFDAC
X-ORIGINAL-URL:https://cofdac.com
X-WR-CALDESC:Évènements pour COFDAC
REFRESH-INTERVAL;VALUE=DURATION:PT1H
X-Robots-Tag:noindex
X-PUBLISHED-TTL:PT1H
BEGIN:VTIMEZONE
TZID:Europe/Paris
BEGIN:DAYLIGHT
TZOFFSETFROM:+0100
TZOFFSETTO:+0200
TZNAME:CEST
DTSTART:20240331T010000
END:DAYLIGHT
BEGIN:STANDARD
TZOFFSETFROM:+0200
TZOFFSETTO:+0100
TZNAME:CET
DTSTART:20241027T010000
END:STANDARD
BEGIN:DAYLIGHT
TZOFFSETFROM:+0100
TZOFFSETTO:+0200
TZNAME:CEST
DTSTART:20250330T010000
END:DAYLIGHT
BEGIN:STANDARD
TZOFFSETFROM:+0200
TZOFFSETTO:+0100
TZNAME:CET
DTSTART:20251026T010000
END:STANDARD
BEGIN:DAYLIGHT
TZOFFSETFROM:+0100
TZOFFSETTO:+0200
TZNAME:CEST
DTSTART:20260329T010000
END:DAYLIGHT
BEGIN:STANDARD
TZOFFSETFROM:+0200
TZOFFSETTO:+0100
TZNAME:CET
DTSTART:20261025T010000
END:STANDARD
END:VTIMEZONE
BEGIN:VEVENT
DTSTART;TZID=Europe/Paris:20250327T090000
DTEND;TZID=Europe/Paris:20250327T160000
DTSTAMP:20260425T213147
CREATED:20250110T080041Z
LAST-MODIFIED:20250130T174044Z
UID:5533-1743066000-1743091200@cofdac.com
SUMMARY:Assistance cardiaque : Journée Rencontre Patients-Soignants #3
DESCRIPTION:Journée dédiée à l’assistance cardiaque : soignants\, patients : nous vous proposons une journée d’échange !\n Jeudi 27 Mars 2025\n Événement gratuit\n La MAS – Paris 13\n10-18 rue des terres au curé – Paris 13 \nTRANSPORTS\n\nLigne 7 Direction Mairie d’Ivry arrêt Porte d’Ivry\nou Ligne 14 Direction Aéroport d’Orly arrêt Olympiades.\n\n✍️ Renseignements et inscriptions jusqu’au 20 avril 2023 auprès des associations : contact.cofdac@gmail.com \nPROGRAMME DE LA JOURNÉE :\n\n9h / 10h : Accueil gourmand\n10h / 11h30 : Débat / L’Impact de l’Annonce : entre choc\, acceptation et espoir\n11h30 / 12h : Débat / Porter l’assistance cardiaque au quotidien : astuces et témoignages\n12h30 / 14h : Pause déjeuner et temps d’échanges\n14h/16h : Débat / Retour à domicile : nouvelles habitudes pour une nouvelle vie\n\n Une participation financière de 200€ par personne est proposée (sur justificatif) pour votre transport. Pour tout déplacement en voiture particulière\, l’indemnité kilométrique sera fixée selon la puissance du véhicule entre 0.60€ et 0.66€/km (dans la limite de 200€). Merci de fournir une copie de votre carte grise. En cas de besoin d’une nuit d’hôtel\, merci de vous rapprocher de la COFDAC : contact.cofdac@gmail.com \n*LVAD= Left Ventricualr Assit Device = Dispositif d’assistance cardiaque.
URL:https://cofdac.com/evenement/assistance-cardiaque-journee-rencontre-patients-soignants-3/
LOCATION:La MAS – Paris 13\, 10-18 rue des terres au curé\, Paris 13\, France
CATEGORIES:Congrès
ATTACH;FMTTYPE=image/png:https://cofdac.com/wp-content/uploads/2025/01/3e-journee-rencontre-patients-soignants-cofdac.png
END:VEVENT
END:VCALENDAR