BEGIN:VCALENDAR
VERSION:2.0
PRODID:-//COFDAC - ECPv6.15.20//NONSGML v1.0//EN
CALSCALE:GREGORIAN
METHOD:PUBLISH
X-WR-CALNAME:COFDAC
X-ORIGINAL-URL:https://cofdac.com
X-WR-CALDESC:Évènements pour COFDAC
REFRESH-INTERVAL;VALUE=DURATION:PT1H
X-Robots-Tag:noindex
X-PUBLISHED-TTL:PT1H
BEGIN:VTIMEZONE
TZID:Europe/Paris
BEGIN:DAYLIGHT
TZOFFSETFROM:+0100
TZOFFSETTO:+0200
TZNAME:CEST
DTSTART:20240331T010000
END:DAYLIGHT
BEGIN:STANDARD
TZOFFSETFROM:+0200
TZOFFSETTO:+0100
TZNAME:CET
DTSTART:20241027T010000
END:STANDARD
BEGIN:DAYLIGHT
TZOFFSETFROM:+0100
TZOFFSETTO:+0200
TZNAME:CEST
DTSTART:20250330T010000
END:DAYLIGHT
BEGIN:STANDARD
TZOFFSETFROM:+0200
TZOFFSETTO:+0100
TZNAME:CET
DTSTART:20251026T010000
END:STANDARD
BEGIN:DAYLIGHT
TZOFFSETFROM:+0100
TZOFFSETTO:+0200
TZNAME:CEST
DTSTART:20260329T010000
END:DAYLIGHT
BEGIN:STANDARD
TZOFFSETFROM:+0200
TZOFFSETTO:+0100
TZNAME:CET
DTSTART:20261025T010000
END:STANDARD
END:VTIMEZONE
BEGIN:VEVENT
DTSTART;TZID=Europe/Paris:20250613T103000
DTEND;TZID=Europe/Paris:20250613T160000
DTSTAMP:20260425T162628
CREATED:20250610T100439Z
LAST-MODIFIED:20250610T100512Z
UID:5780-1749810600-1749830400@cofdac.com
SUMMARY:Bouger contre l'insuffisance cardiaque
DESCRIPTION:Nous vous convions à la journée sur l’insuffisance cardiaque \n\n10h30 : Accueil des participants à la salle des fêtes de Pénestin\n11 : mit d’accueil et réunion / débat\n12h : Pique nique (non fourni)\n14h : marche en bord de mer (5km)\n16H : goûter offert\n\nLe nombre de participants étant limité\, merci de vous inscrire auprès de votre équipe soignante (1 accompagnant par participant). \n 
URL:https://cofdac.com/evenement/bouger-contre-linsuffisance-cardiaque/
LOCATION:Pénestin
ATTACH;FMTTYPE=image/jpeg:https://cofdac.com/wp-content/uploads/2025/06/bouger.jpg
END:VEVENT
BEGIN:VEVENT
DTSTART;TZID=Europe/Paris:20250614T133000
DTEND;TZID=Europe/Paris:20250614T170000
DTSTAMP:20260425T162628
CREATED:20250610T091439Z
LAST-MODIFIED:20250610T091530Z
UID:5771-1749907800-1749920400@cofdac.com
SUMMARY:2ème marche des écluses Castelnaudray
DESCRIPTION:Journée de sensibilisation à l’insuffisance cardiaque chronique et à son traitement par assistance ou transplantation cardiaque. \n\nLe 14 juin 2025\nRDV 13h30 Square André Core\nDépart 14h30\nArrivée 17h\nParticipation : 5€\nDécouvrez les images de la précédente marche des écluses
URL:https://cofdac.com/evenement/2eme-marche-des-ecluses-castelnaudray/
ATTACH;FMTTYPE=image/jpeg:https://cofdac.com/wp-content/uploads/2025/06/2e-marche-Terre-et-mers.jpg
END:VEVENT
BEGIN:VEVENT
DTSTART;TZID=Europe/Paris:20250614T140000
DTEND;TZID=Europe/Paris:20250614T200000
DTSTAMP:20260425T162628
CREATED:20250610T095857Z
LAST-MODIFIED:20250610T095935Z
UID:5775-1749909600-1749931200@cofdac.com
SUMMARY:2ème marche des Ponts
DESCRIPTION:Paris 5eme\, Péniche Le Son de la Terre\, 2 port Montebello\nDe 14h à 20h\nJournée de sensibilisation à l’insuffisance cardiaque avancée\, ) l’assistance\, au coeur artificiel et à la transplantation
URL:https://cofdac.com/evenement/2eme-marche-des-ponts/
LOCATION:péniche le son de la terre\, 2 port montebello\, Paris
ATTACH;FMTTYPE=image/jpeg:https://cofdac.com/wp-content/uploads/2025/06/2e-marche-des-ponts.jpg
END:VEVENT
END:VCALENDAR